BEGIN:VCALENDAR
VERSION:2.0
PRODID:-//KC BioHub - ECPv6.15.20//NONSGML v1.0//EN
CALSCALE:GREGORIAN
METHOD:PUBLISH
X-ORIGINAL-URL:https://kcbiohub.org
X-WR-CALDESC:Events for KC BioHub
REFRESH-INTERVAL;VALUE=DURATION:PT1H
X-Robots-Tag:noindex
X-PUBLISHED-TTL:PT1H
BEGIN:VTIMEZONE
TZID:America/Chicago
BEGIN:DAYLIGHT
TZOFFSETFROM:-0600
TZOFFSETTO:-0500
TZNAME:CDT
DTSTART:20250309T080000
END:DAYLIGHT
BEGIN:STANDARD
TZOFFSETFROM:-0500
TZOFFSETTO:-0600
TZNAME:CST
DTSTART:20251102T070000
END:STANDARD
BEGIN:DAYLIGHT
TZOFFSETFROM:-0600
TZOFFSETTO:-0500
TZNAME:CDT
DTSTART:20260308T080000
END:DAYLIGHT
BEGIN:STANDARD
TZOFFSETFROM:-0500
TZOFFSETTO:-0600
TZNAME:CST
DTSTART:20261101T070000
END:STANDARD
BEGIN:DAYLIGHT
TZOFFSETFROM:-0600
TZOFFSETTO:-0500
TZNAME:CDT
DTSTART:20270314T080000
END:DAYLIGHT
BEGIN:STANDARD
TZOFFSETFROM:-0500
TZOFFSETTO:-0600
TZNAME:CST
DTSTART:20271107T070000
END:STANDARD
END:VTIMEZONE
BEGIN:VEVENT
DTSTART;TZID=America/Chicago:20260402T170000
DTEND;TZID=America/Chicago:20260402T200000
DTSTAMP:20260423T084055
CREATED:20260122T171714Z
LAST-MODIFIED:20260324T152602Z
UID:2578-1775149200-1775160000@kcbiohub.org
SUMMARY:Investor Education Series: What is biotech?
DESCRIPTION:A clear introduction to biotech as an investable asset class\, grounded in both real-world impact and financial opportunity. You’ll understand how innovation moves from lab to market and where investors create leverage in the process.
URL:https://kcbiohub.org/event/investor-education-series-angel-investing-why-biotech/
CATEGORIES:Investor Education Series
END:VEVENT
END:VCALENDAR