BEGIN:VCALENDAR
VERSION:2.0
PRODID:-//KC BioHub - ECPv6.15.20//NONSGML v1.0//EN
CALSCALE:GREGORIAN
METHOD:PUBLISH
X-ORIGINAL-URL:https://kcbiohub.org
X-WR-CALDESC:Events for KC BioHub
REFRESH-INTERVAL;VALUE=DURATION:PT1H
X-Robots-Tag:noindex
X-PUBLISHED-TTL:PT1H
BEGIN:VTIMEZONE
TZID:America/Chicago
BEGIN:DAYLIGHT
TZOFFSETFROM:-0600
TZOFFSETTO:-0500
TZNAME:CDT
DTSTART:20250309T080000
END:DAYLIGHT
BEGIN:STANDARD
TZOFFSETFROM:-0500
TZOFFSETTO:-0600
TZNAME:CST
DTSTART:20251102T070000
END:STANDARD
BEGIN:DAYLIGHT
TZOFFSETFROM:-0600
TZOFFSETTO:-0500
TZNAME:CDT
DTSTART:20260308T080000
END:DAYLIGHT
BEGIN:STANDARD
TZOFFSETFROM:-0500
TZOFFSETTO:-0600
TZNAME:CST
DTSTART:20261101T070000
END:STANDARD
BEGIN:DAYLIGHT
TZOFFSETFROM:-0600
TZOFFSETTO:-0500
TZNAME:CDT
DTSTART:20270314T080000
END:DAYLIGHT
BEGIN:STANDARD
TZOFFSETFROM:-0500
TZOFFSETTO:-0600
TZNAME:CST
DTSTART:20271107T070000
END:STANDARD
END:VTIMEZONE
BEGIN:VEVENT
DTSTART;TZID=America/Chicago:20260409T170000
DTEND;TZID=America/Chicago:20260409T200000
DTSTAMP:20260423T083723
CREATED:20260122T171825Z
LAST-MODIFIED:20260324T152455Z
UID:2579-1775754000-1775764800@kcbiohub.org
SUMMARY:Investor Education Series: The Role of the Angel Investor in Biotech
DESCRIPTION:A practical look at where angel investors play across the biotech lifecycle\, from early proof-of-concept to value inflection points. Learn how capital\, timing\, and strategic support influence outcomes in a high-risk\, high-reward sector.
URL:https://kcbiohub.org/event/investor-education-series-life-sciences-a-varied-investment-opportunity/
CATEGORIES:Investor Education Series
END:VEVENT
END:VCALENDAR