BEGIN:VCALENDAR
VERSION:2.0
PRODID:-//KC BioHub - ECPv6.15.20//NONSGML v1.0//EN
CALSCALE:GREGORIAN
METHOD:PUBLISH
X-ORIGINAL-URL:https://kcbiohub.org
X-WR-CALDESC:Events for KC BioHub
REFRESH-INTERVAL;VALUE=DURATION:PT1H
X-Robots-Tag:noindex
X-PUBLISHED-TTL:PT1H
BEGIN:VTIMEZONE
TZID:America/Chicago
BEGIN:DAYLIGHT
TZOFFSETFROM:-0600
TZOFFSETTO:-0500
TZNAME:CDT
DTSTART:20250309T080000
END:DAYLIGHT
BEGIN:STANDARD
TZOFFSETFROM:-0500
TZOFFSETTO:-0600
TZNAME:CST
DTSTART:20251102T070000
END:STANDARD
BEGIN:DAYLIGHT
TZOFFSETFROM:-0600
TZOFFSETTO:-0500
TZNAME:CDT
DTSTART:20260308T080000
END:DAYLIGHT
BEGIN:STANDARD
TZOFFSETFROM:-0500
TZOFFSETTO:-0600
TZNAME:CST
DTSTART:20261101T070000
END:STANDARD
BEGIN:DAYLIGHT
TZOFFSETFROM:-0600
TZOFFSETTO:-0500
TZNAME:CDT
DTSTART:20270314T080000
END:DAYLIGHT
BEGIN:STANDARD
TZOFFSETFROM:-0500
TZOFFSETTO:-0600
TZNAME:CST
DTSTART:20271107T070000
END:STANDARD
END:VTIMEZONE
BEGIN:VEVENT
DTSTART;TZID=America/Chicago:20260416T170000
DTEND;TZID=America/Chicago:20260416T200000
DTSTAMP:20260423T083732
CREATED:20260122T171924Z
LAST-MODIFIED:20260324T152420Z
UID:2580-1776358800-1776369600@kcbiohub.org
SUMMARY:Investor Education Series: Drug Development\, Drug Delivery\, & Biomanufacturing
DESCRIPTION:A breakdown of how drugs move from discovery to commercialization\, including clinical development\, manufacturing\, and exit pathways. You’ll see where value is created\, where risk accumulates\, and what it takes to fund and scale a biotech company.
URL:https://kcbiohub.org/event/investor-education-series-due-diligence-a-guide-for-life-sciences-companies/
CATEGORIES:Investor Education Series
END:VEVENT
END:VCALENDAR