BEGIN:VCALENDAR
VERSION:2.0
PRODID:-//KC BioHub - ECPv6.15.20//NONSGML v1.0//EN
CALSCALE:GREGORIAN
METHOD:PUBLISH
X-WR-CALNAME:KC BioHub
X-ORIGINAL-URL:https://kcbiohub.org
X-WR-CALDESC:Events for KC BioHub
REFRESH-INTERVAL;VALUE=DURATION:PT1H
X-Robots-Tag:noindex
X-PUBLISHED-TTL:PT1H
BEGIN:VTIMEZONE
TZID:America/Chicago
BEGIN:DAYLIGHT
TZOFFSETFROM:-0600
TZOFFSETTO:-0500
TZNAME:CDT
DTSTART:20250309T080000
END:DAYLIGHT
BEGIN:STANDARD
TZOFFSETFROM:-0500
TZOFFSETTO:-0600
TZNAME:CST
DTSTART:20251102T070000
END:STANDARD
BEGIN:DAYLIGHT
TZOFFSETFROM:-0600
TZOFFSETTO:-0500
TZNAME:CDT
DTSTART:20260308T080000
END:DAYLIGHT
BEGIN:STANDARD
TZOFFSETFROM:-0500
TZOFFSETTO:-0600
TZNAME:CST
DTSTART:20261101T070000
END:STANDARD
BEGIN:DAYLIGHT
TZOFFSETFROM:-0600
TZOFFSETTO:-0500
TZNAME:CDT
DTSTART:20270314T080000
END:DAYLIGHT
BEGIN:STANDARD
TZOFFSETFROM:-0500
TZOFFSETTO:-0600
TZNAME:CST
DTSTART:20271107T070000
END:STANDARD
END:VTIMEZONE
BEGIN:VEVENT
DTSTART;TZID=America/Chicago:20260423T170000
DTEND;TZID=America/Chicago:20260423T200000
DTSTAMP:20260423T071051
CREATED:20260122T172037Z
LAST-MODIFIED:20260324T152347Z
UID:2581-1776963600-1776974400@kcbiohub.org
SUMMARY:Investor Education Series: Medical Devices
DESCRIPTION:An examination of how medical devices are developed\, regulated\, and brought to market. The session highlights how clinical impact\, usability\, reimbursement\, and cost structure influence adoption\, scalability\, and investor returns.
URL:https://kcbiohub.org/event/investor-education-series-regulation-navigating-for-investing-in-life-sciences/
CATEGORIES:Investor Education Series
END:VEVENT
BEGIN:VEVENT
DTSTART;TZID=America/Chicago:20260430T170000
DTEND;TZID=America/Chicago:20260430T200000
DTSTAMP:20260423T071051
CREATED:20260122T172144Z
LAST-MODIFIED:20260324T152309Z
UID:2582-1777568400-1777579200@kcbiohub.org
SUMMARY:Investor Education Series: Diagnostics & BioTools
DESCRIPTION:A look at how diagnostics and BioTools companies create value by enabling faster\, more accurate insights across clinical care and research. Key drivers include biomarker relevance\, throughput\, regulatory pathways\, and business models that impact scale and adoption.
URL:https://kcbiohub.org/event/investor-education-series-managing-risk-how-biotech-fits-in-your-broader-portfolio/
CATEGORIES:Investor Education Series
END:VEVENT
END:VCALENDAR